BEGIN:VCALENDAR
VERSION:2.0
PRODID:-//Plone.org//NONSGML plone.app.event//EN
X-WR-TIMEZONE:Europe/Madrid
BEGIN:VEVENT
SUMMARY:Memòria visual de l'EEBE
DTSTART;VALUE=DATE:20260205
DTEND;VALUE=DATE:20261001
DTSTAMP:20260425T014922Z
UID:ba78578f563643ffb049bae47d60cc16@eebe.upc.edu
CREATED:20260205T120633Z
DESCRIPTION:Envia'ns les teves fotos d'aquests darrers 10 anys a l'EEBE i 
 CDB per crear un àlbum digital.
LAST-MODIFIED:20260208T124951Z
URL:https://eebe.upc.edu/ca/esdeveniments/10-anys-eebe/memoria-visual-de-l
 eebe
END:VEVENT
BEGIN:VEVENT
SUMMARY:Gimcana de les associacions de l'EEBE
DTSTART;TZID=Europe/Madrid:20260430T170000
DTEND;TZID=Europe/Madrid:20260430T190000
DTSTAMP:20260425T014922Z
UID:c212d427640b47f69cb31f88f83d309a@eebe.upc.edu
CREATED:20260422T061023Z
DESCRIPTION:Adreçada a l'alumnat de 1r curs
LAST-MODIFIED:20260422T061033Z
LOCATION:EEBE
URL:https://eebe.upc.edu/ca/esdeveniments/10-anys-eebe/gimcana-de-les-asso
 ciacions-de-leebe
END:VEVENT
BEGIN:VTIMEZONE
TZID:Europe/Madrid
X-LIC-LOCATION:Europe/Madrid
BEGIN:DAYLIGHT
DTSTART:20260329T030000
TZNAME:CEST
TZOFFSETFROM:+0100
TZOFFSETTO:+0200
END:DAYLIGHT
END:VTIMEZONE
END:VCALENDAR
