BEGIN:VCALENDAR
VERSION:2.0
PRODID:-//Plone.org//NONSGML plone.app.event//EN
X-WR-TIMEZONE:Europe/Madrid
BEGIN:VEVENT
SUMMARY:ESA BIC: de l'aula a l'espai
DTSTART;TZID=Europe/Madrid:20251127T143000
DTEND;TZID=Europe/Madrid:20251127T153000
DTSTAMP:20260424T205630Z
UID:55bae118caec4c1da54a7b62ad5c3644@eebe.upc.edu
CREATED:20251105T131634Z
DESCRIPTION:Oportunitats professionals i d'emprenedoria al sector aeroespa
 cial.
LAST-MODIFIED:20251106T101835Z
LOCATION:Espai Emprèn (planta S1 edifici C)
URL:https://eebe.upc.edu/ca/esdeveniments/agenda/esa-bic-de-laula-a-lespai
END:VEVENT
BEGIN:VTIMEZONE
TZID:Europe/Madrid
X-LIC-LOCATION:Europe/Madrid
BEGIN:STANDARD
DTSTART:20251026T020000
TZNAME:CET
TZOFFSETFROM:+0200
TZOFFSETTO:+0100
END:STANDARD
END:VTIMEZONE
END:VCALENDAR
