BEGIN:VCALENDAR
VERSION:2.0
PRODID:-//Plone.org//NONSGML plone.app.event//EN
X-WR-TIMEZONE:Europe/Madrid
BEGIN:VEVENT
SUMMARY:Demo Day Explorer 2026
DTSTART;TZID=Europe/Madrid:20260415T160000
DTEND;TZID=Europe/Madrid:20260415T183000
DTSTAMP:20260421T001500Z
UID:1558266699a74fe6ac5bad126c76b6c4@eebe.upc.edu
CREATED:20260325T122404Z
LAST-MODIFIED:20260325T125937Z
LOCATION:Espai Emprèn (planta S1 edifici C)
URL:https://eebe.upc.edu/ca/esdeveniments/demo-day-explorer-2026
END:VEVENT
BEGIN:VTIMEZONE
TZID:Europe/Madrid
X-LIC-LOCATION:Europe/Madrid
BEGIN:DAYLIGHT
DTSTART:20260329T030000
TZNAME:CEST
TZOFFSETFROM:+0100
TZOFFSETTO:+0200
END:DAYLIGHT
END:VTIMEZONE
END:VCALENDAR
