BEGIN:VCALENDAR
VERSION:2.0
PRODID:-//Plone.org//NONSGML plone.app.event//EN
X-WR-TIMEZONE:Europe/Madrid
BEGIN:VEVENT
SUMMARY:Demo Day. Programa de preacceleració Industrial Tech
DTSTART;TZID=Europe/Madrid:20231214T093000
DTEND;TZID=Europe/Madrid:20231214T120000
DTSTAMP:20260420T150455Z
UID:c83977390269454fb7aabeeb88fff6e2@eebe.upc.edu
CONTACT:Servei de Gestió de la Innovació - Emprèn UPC\, mathilde.cadene
 @upc.edu
CREATED:20231205T143218Z
LAST-MODIFIED:20231205T143237Z
LOCATION:Zona Polivalent Espai Emprèn
URL:https://eebe.upc.edu/ca/esdeveniments/demo-day-programa-de-preaccelera
 cio-industrial-tech
END:VEVENT
BEGIN:VTIMEZONE
TZID:Europe/Madrid
X-LIC-LOCATION:Europe/Madrid
BEGIN:STANDARD
DTSTART:20231029T020000
TZNAME:CET
TZOFFSETFROM:+0200
TZOFFSETTO:+0100
END:STANDARD
END:VTIMEZONE
END:VCALENDAR
