BEGIN:VCALENDAR
VERSION:2.0
PRODID:-//Plone.org//NONSGML plone.app.event//EN
X-WR-TIMEZONE:Europe/Madrid
BEGIN:VEVENT
SUMMARY:Festa d'hivern al Campus Diagonal-Besòs
DTSTART;TZID=Europe/Madrid:20231213T133000
DTEND;TZID=Europe/Madrid:20231213T143000
DTSTAMP:20260420T190858Z
UID:6fce9101b798427f9d989b5d3ac688a6@eebe.upc.edu
CREATED:20231201T101726Z
LAST-MODIFIED:20231204T102508Z
LOCATION:Vestíbul edifici A
URL:https://eebe.upc.edu/ca/esdeveniments/festa-dhivern-a-leebe
END:VEVENT
BEGIN:VTIMEZONE
TZID:Europe/Madrid
X-LIC-LOCATION:Europe/Madrid
BEGIN:STANDARD
DTSTART:20231029T020000
TZNAME:CET
TZOFFSETFROM:+0200
TZOFFSETTO:+0100
END:STANDARD
END:VTIMEZONE
END:VCALENDAR
