BEGIN:VCALENDAR
VERSION:2.0
PRODID:-//Plone.org//NONSGML plone.app.event//EN
X-WR-TIMEZONE:Europe/Madrid
BEGIN:VEVENT
SUMMARY:Sessió informativa d'ePowered RACING
DTSTART;TZID=Europe/Madrid:20190313T123000
DTEND;TZID=Europe/Madrid:20190313T133000
DTSTAMP:20260420T033006Z
UID:87a9b072b2854503915d8138aa4d824d@eebe.upc.edu
CONTACT:https://eebe.upc.edu/ca/noticies/disena-y-fabrica-una-moto-electri
 ca-de-competicion-y-amplia-tus-conocimientos-de-ingenieria-con-epowered-ra
 cing
CREATED:20190311T114221Z
LAST-MODIFIED:20190311T114242Z
LOCATION:Aula 0.1
URL:https://eebe.upc.edu/ca/esdeveniments/sessio-informativa-depowered-rac
 ing
END:VEVENT
BEGIN:VTIMEZONE
TZID:Europe/Madrid
X-LIC-LOCATION:Europe/Madrid
BEGIN:STANDARD
DTSTART:20181028T020000
TZNAME:CET
TZOFFSETFROM:+0200
TZOFFSETTO:+0100
END:STANDARD
END:VTIMEZONE
END:VCALENDAR
