BEGIN:VCALENDAR
VERSION:2.0
PRODID:-//Plone.org//NONSGML plone.app.event//EN
X-WR-TIMEZONE:Europe/Madrid
BEGIN:VEVENT
SUMMARY:Sortida a buscar bolets
DTSTART;VALUE=DATE:20231206
DTEND;VALUE=DATE:20231207
DTSTAMP:20260420T064522Z
UID:8147149b54b84cbe88db21c486da84ba@eebe.upc.edu
CONTACT:EcoEEBE\, eco.eebe@upc.edu
CREATED:20231201T120000Z
LAST-MODIFIED:20231201T120008Z
URL:https://eebe.upc.edu/ca/esdeveniments/sortida-a-buscar-bolets
END:VEVENT
END:VCALENDAR
